BEGIN:VCALENDAR
VERSION:2.0
PRODID:-//Manchester Police Athletic League - ECPv6.15.12.2//NONSGML v1.0//EN
CALSCALE:GREGORIAN
METHOD:PUBLISH
X-WR-CALNAME:Manchester Police Athletic League
X-ORIGINAL-URL:https://www.manchesterpoliceathleticleague.org
X-WR-CALDESC:Events for Manchester Police Athletic League
REFRESH-INTERVAL;VALUE=DURATION:PT1H
X-Robots-Tag:noindex
X-PUBLISHED-TTL:PT1H
BEGIN:VTIMEZONE
TZID:America/New_York
BEGIN:DAYLIGHT
TZOFFSETFROM:-0500
TZOFFSETTO:-0400
TZNAME:EDT
DTSTART:20190310T070000
END:DAYLIGHT
BEGIN:STANDARD
TZOFFSETFROM:-0400
TZOFFSETTO:-0500
TZNAME:EST
DTSTART:20191103T060000
END:STANDARD
BEGIN:DAYLIGHT
TZOFFSETFROM:-0500
TZOFFSETTO:-0400
TZNAME:EDT
DTSTART:20200308T070000
END:DAYLIGHT
BEGIN:STANDARD
TZOFFSETFROM:-0400
TZOFFSETTO:-0500
TZNAME:EST
DTSTART:20201101T060000
END:STANDARD
BEGIN:DAYLIGHT
TZOFFSETFROM:-0500
TZOFFSETTO:-0400
TZNAME:EDT
DTSTART:20210314T070000
END:DAYLIGHT
BEGIN:STANDARD
TZOFFSETFROM:-0400
TZOFFSETTO:-0500
TZNAME:EST
DTSTART:20211107T060000
END:STANDARD
END:VTIMEZONE
BEGIN:VEVENT
DTSTART;TZID=America/New_York:20200203T153000
DTEND;TZID=America/New_York:20200203T170000
DTSTAMP:20260422T025627
CREATED:20191024T142604Z
LAST-MODIFIED:20191024T142604Z
UID:1910-1580743800-1580749200@www.manchesterpoliceathleticleague.org
SUMMARY:Boxing Level 2
DESCRIPTION:Boxing Level 2 is by invite only. Please see Coach John for more information
URL:https://www.manchesterpoliceathleticleague.org/schedule-date/boxing-level-2-123/
CATEGORIES:Boxing
END:VEVENT
BEGIN:VEVENT
DTSTART;TZID=America/New_York:20200203T160000
DTEND;TZID=America/New_York:20200203T160000
DTSTAMP:20260422T025627
CREATED:20190816T195310Z
LAST-MODIFIED:20190816T195310Z
UID:1649-1580745600-1580745600@www.manchesterpoliceathleticleague.org
SUMMARY:Cooking
DESCRIPTION:A professional chef will lead the class in preparing something and then you get to enjoy it. Cooking is open to kids ages 8+. Sign-ups will open 2 weeks in advance. Due to the clas’ limited space and growing popularity\, we ask that our young chefs not attend back-to-back classes.
URL:https://www.manchesterpoliceathleticleague.org/schedule-date/cooking-10/
CATEGORIES:Cooking
END:VEVENT
BEGIN:VEVENT
DTSTART;TZID=America/New_York:20200203T174500
DTEND;TZID=America/New_York:20200203T194500
DTSTAMP:20260422T025627
CREATED:20191024T142604Z
LAST-MODIFIED:20191024T142604Z
UID:1912-1580751900-1580759100@www.manchesterpoliceathleticleague.org
SUMMARY:Aikido
DESCRIPTION:Aikido is open to kids ages 8+. Please see the Youth Sports page for more information.
URL:https://www.manchesterpoliceathleticleague.org/schedule-date/aikido-112/
CATEGORIES:Aikido
END:VEVENT
END:VCALENDAR